BEGIN:VCALENDAR
VERSION:2.0
PRODID:-//eOrlová.cz - ECPv6.15.20//NONSGML v1.0//EN
CALSCALE:GREGORIAN
METHOD:PUBLISH
X-WR-CALNAME:eOrlová.cz
X-ORIGINAL-URL:https://eorlova.cz
X-WR-CALDESC:Akce na eOrlová.cz
REFRESH-INTERVAL;VALUE=DURATION:PT1H
X-Robots-Tag:noindex
X-PUBLISHED-TTL:PT1H
BEGIN:VTIMEZONE
TZID:Europe/Paris
BEGIN:DAYLIGHT
TZOFFSETFROM:+0100
TZOFFSETTO:+0200
TZNAME:CEST
DTSTART:20250330T010000
END:DAYLIGHT
BEGIN:STANDARD
TZOFFSETFROM:+0200
TZOFFSETTO:+0100
TZNAME:CET
DTSTART:20251026T010000
END:STANDARD
BEGIN:DAYLIGHT
TZOFFSETFROM:+0100
TZOFFSETTO:+0200
TZNAME:CEST
DTSTART:20260329T010000
END:DAYLIGHT
BEGIN:STANDARD
TZOFFSETFROM:+0200
TZOFFSETTO:+0100
TZNAME:CET
DTSTART:20261025T010000
END:STANDARD
BEGIN:DAYLIGHT
TZOFFSETFROM:+0100
TZOFFSETTO:+0200
TZNAME:CEST
DTSTART:20270328T010000
END:DAYLIGHT
BEGIN:STANDARD
TZOFFSETFROM:+0200
TZOFFSETTO:+0100
TZNAME:CET
DTSTART:20271031T010000
END:STANDARD
END:VTIMEZONE
BEGIN:VEVENT
DTSTART;TZID=Europe/Paris:20260328T180000
DTEND;TZID=Europe/Paris:20260329T030000
DTSTAMP:20260422T181250
CREATED:20260309T224922Z
LAST-MODIFIED:20260318T122328Z
UID:15722-1774720800-1774753200@eorlova.cz
SUMMARY:PORTAL
DESCRIPTION:DnB & Jungle\nDJs:QuartexWarpKniper
URL:https://eorlova.cz/kalendar-udalosti-v-orlove/portal/
LOCATION:FUTRA Orlová\, Masaryková 1000\, Orlová-Lutyně\, Moravskoslezský kraj\, 73511\, Czech Republic
CATEGORIES:Kulturní akce v Orlové
ATTACH;FMTTYPE=image/jpeg:https://eorlova.cz/wp-content/uploads/2026/03/akce_FUTRA_portal.jpg
ORGANIZER;CN="FUTRA %2C z.s.":MAILTO:futra@email.cz
END:VEVENT
BEGIN:VEVENT
DTSTART;TZID=Europe/Paris:20260326T170000
DTEND;TZID=Europe/Paris:20260326T200000
DTSTAMP:20260422T181250
CREATED:20260324T201815Z
LAST-MODIFIED:20260324T202424Z
UID:16227-1774544400-1774555200@eorlova.cz
SUMMARY:Hospodin v hospodě s Víťou Troníčkem
DESCRIPTION:Alternativní bohoslužba \n  \nMožná jste před rokem zaregistrovali rozruch kolem netradiční bohoslužby nazvané Hospodin v hospodě\, kterou vysílala ji TV Noe. Kontroverze\, které se kolem toho vytvořily\, paradoxně pomohly tuto myšlenku rozšířit a dnes se Hospodin v hospodě koná na různých místech v republice\, nejblíž od nás v Havířově a v Opavě. \n  \nTeď poprvé se taková alternativní bohoslužba uskuteční i v Orlové v klubu Futra. Hudebním hostem bude Víťa Troníček\, frontman známé folkové skupiny Marien\, písničkář\, kytarista i textař. Dalšími hosty budou Pavel Janošík a Janek Ženatý\, kteří podobná setkání pořádají v Opavě. \n 
URL:https://eorlova.cz/kalendar-udalosti-v-orlove/hospodin-v-hospode-s-vitou-tronickem/
LOCATION:FUTRA Orlová\, Masaryková 1000\, Orlová-Lutyně\, Moravskoslezský kraj\, 73511\, Czech Republic
CATEGORIES:Kulturní akce v Orlové
ATTACH;FMTTYPE=image/jpeg:https://eorlova.cz/wp-content/uploads/2026/03/hospodin_v_hospode.jpg
ORGANIZER;CN="FUTRA %2C z.s.":MAILTO:futra@email.cz
END:VEVENT
BEGIN:VEVENT
DTSTART;TZID=Europe/Paris:20260322T143000
DTEND;TZID=Europe/Paris:20260322T170000
DTSTAMP:20260422T181250
CREATED:20260409T124707Z
LAST-MODIFIED:20260409T124707Z
UID:16348-1774189800-1774198800@eorlova.cz
SUMMARY:1920: Plebiscit\, který se nekonal
DESCRIPTION:Čeká vás zajímavá přednáška historika a člena Historicko-dokumentační komise Československé obce legionářské\, Tomáše Ruska\, která se bude hodně věnovat Orlové a tématu\, o kterém se dosud příliš nemluvilo\, ale které mnohé vysvětlí a objasní.
URL:https://eorlova.cz/kalendar-udalosti-v-orlove/1920-plebiscit-ktery-se-nekonal/
LOCATION:Zimní stadion Orlová\, Na Stuchlíkovci 982\, Orlová - Lutyně\, Moravskoslezský kraj\, 73514\, Česká republika
CATEGORIES:Kulturní akce v Orlové,Orlová na furt
ATTACH;FMTTYPE=image/jpeg:https://eorlova.cz/wp-content/uploads/2026/04/prednaska_rusek_duben2026.jpg
ORGANIZER;CN="Orlov%C3%A1 na furt%2C z.s.":MAILTO:spolek@orlovanafurt.cz
END:VEVENT
BEGIN:VEVENT
DTSTART;TZID=Europe/Paris:20260320T190000
DTEND;TZID=Europe/Paris:20260320T210000
DTSTAMP:20260422T181250
CREATED:20260318T125902Z
LAST-MODIFIED:20260318T130020Z
UID:16202-1774033200-1774040400@eorlova.cz
SUMMARY:GIF // Ctib // Inoxia Corpora // Přeplesk
DESCRIPTION:GIF – hardcore punk z německého Hamburku. V sestavě členové kapel Attack of the Mad Axeman\, Crossed Comment\, atp. Mix UK punk 82 a japonského hardcoru. Střet Exploited a GISM!https://gifpunk.bandcamp.com/ \n\n\nINNOXIA CORPORA – rožnovská stálice. DIY hardcore punková čtveřice se po delší době ukáže v podzemí Futry a to s novou deskou „Králi zmaru“. Pot\, punk a pogo!https://innoxiacorpora.bandcamp.com/ \n\n\nCTIB – guru rožnovského punkového podhoubí. Persona známá svým působením v kapelách Telefon\, Výbor Veřejného Blaha či Chorobopop. Disco ego punk z valašské mekky punku.https://ctib.bandcamp.com/ \n\n\nPŘEPLESK – hardcore thrash jízda z Nového Jičína. Kytary a nábojáky\, v kulometném hnízdě Iveta z VETO!https://www.facebook.com/prepleskkapela/ \n\nStart v 19:00 // Vstup 200-250 Kč
URL:https://eorlova.cz/kalendar-udalosti-v-orlove/gif-ctib-inoxia-corpora-preplesk/
LOCATION:FUTRA Orlová\, Masaryková 1000\, Orlová-Lutyně\, Moravskoslezský kraj\, 73511\, Czech Republic
CATEGORIES:Kulturní akce v Orlové
ATTACH;FMTTYPE=image/jpeg:https://eorlova.cz/wp-content/uploads/2026/03/gif_futra.jpg
ORGANIZER;CN="FUTRA %2C z.s.":MAILTO:futra@email.cz
END:VEVENT
BEGIN:VEVENT
DTSTART;TZID=Europe/Paris:20260314T110000
DTEND;TZID=Europe/Paris:20260314T200000
DTSTAMP:20260422T181250
CREATED:20260309T224319Z
LAST-MODIFIED:20260318T121636Z
UID:15719-1773486000-1773518400@eorlova.cz
SUMMARY:Okraj #3
DESCRIPTION:Třetí sestup do hlubin.\n(vstupné od 16 hodin)\nHUDBA\nEND: SOCIETYFragmenty elektroniky\, které si pamatují budoucnost. Ambientní dekomprese\, introspektivní glitch\, který dýchá tišeji než smogová noc. Skladby jako by ztrácely orientaci\, aby mohly znovu najít vnitřní kompas.https://tlu-music.bandcamp.com/album/takes-vol-2\n\nLA PROSPERITÉSkladby La Prosperité je jako deník psaný světlem zapalovače na stěny sklepa. Jejich hudba má chuť ranní cigarety po probdělé noci – trochu hořká\, ale důvěrná. Jako návrat domů přes ospalé sídliště\, kdy si nejsi jistý\, jestli v tobě něco končí\, nebo začíná.https://pureheartrecords.bandcamp.com/album/la-prosp-rit-s-t\n\nDEATH CULTURE DEPRIVATIONTanec s rezavou břitvou\, syrová cesta hlukem. Očista špínou a vztekem světa. Death Culture Deprivation nedávno vydali novou kazetu\, která nekompromisně tlačí. Naživo to bude ještě větší metelice.\nhttps://deathculture.bandcamp.com\n\nMULEVIKAMulevika je stínem pradávné písně – hlasem\, který přežil zimu\, mlčení i popěvky nesené větrem přes polorozpadlá města. S křehkostí i drásavou poetikou navazuje na neofolkovou nit – zpívá o krajině\, která pohlcuje i tvoří\, o těle i duchu v rozkladu i růstu.https://mulevika.bandcamp.com\n\nAFTER: TATEŘINADJ set a post tanec v režii naší domácí Tateřinyhttps://soundcloud.com/katerina-tkacikova\n\nAUTORSKÉ ČTENÍ\nHELENA ČERNOHORSKÁ: IDAHelena Černohorská vystudovala Literární akademii Josefa Škvoreckého\, obor Tvůrčí psaní. V roce 2015 debutovala s novelou O trudném konci Marie Večeřové a korunního prince Rudolfa\, která byla nominovaná na Cenu Jiřího Ortena. Na Okraj přiveze kromě jiných knih nakladatelství Bylo nebylo (které spolutvoří) svou knihu Ida\, ve které vypráví příběh mladé ženy z českého pohraničí v době kolektivizace.https://www.bylonebylo.com/ida\n\nVÝSTAVA A KŘEST KNIHY\nONDŘEJ SITEK A KOL.: ZOO. PROSÍME\, NAVŠTIVTE NÁS12 + 1 dosud nezdokumentovaných obyvatel zoo v obrazech s průvodním slovem Ondřeje Sitka.\nSkrovný výběr z bohaté encyklopedie zvířeny biolingvisty Ondřeje Sitka. Eklektické a zjitřené dílo staví paradoxně na dvou pevných pilířích: systému jazykové hry a systému živočišné taxonomie. Vychází z bazálního předpokladu Wittgensteinova\, že myšlenka je smysluplná věta. Až barokní opis jednotlivých živočišných druhů je volně asociován jazykem národního obrození\, ojedinělými novotvary i jazykem současným\, mladým\, slangovým. Systematicky autor zcela vynechává období ikonoklasmů. Pracuje s gradací stereotypů: „Jeho pancéřování\, velmi tuhé\, jej chrání před zbloudilými kulemi i otrávenými šípy i kanonovými houfnicemi i minomety kverulantských rebelů\, jakož i raketomety\, atomovými bombami i cirkulární ekonomikou…“ a oxymórony: „Pro svou těžkotonážní nespoutanost…“. Každé slovo je tak pečlivě vybraným obrazem. Tempo čtení je ale svižné a energické\, podle hesla těch\, kteří zemřeli mladí na zamotání své šály osudu do kola projíždějící sajdkáry: „Life is Short“.\nBudou vystaveny ilustrace z knihy ilustrátorek Violy Borkové (@zelvickaxixi)\, Jindřišky Jonešové (@jjonesova) a Noemi Valentíny (@emi.entiny)\n\nNAKLADATELSTVÍ\, DISTRA\, ETC.\nRiskoBylo nebyloCentralaIntifarmaBroken BooksBlack SeedsTři ocásciŽelvička XixiBílý VigvamČerný FlórMazinerie+tba
URL:https://eorlova.cz/kalendar-udalosti-v-orlove/okraj-3/
LOCATION:FUTRA Orlová\, Masaryková 1000\, Orlová-Lutyně\, Moravskoslezský kraj\, 73511\, Czech Republic
CATEGORIES:Kulturní akce v Orlové
ATTACH;FMTTYPE=image/jpeg:https://eorlova.cz/wp-content/uploads/2026/03/akce_okraj3_futra.jpg
ORGANIZER;CN="FUTRA %2C z.s.":MAILTO:futra@email.cz
END:VEVENT
END:VCALENDAR