BEGIN:VCALENDAR
VERSION:2.0
PRODID:-//eOrlová.cz - ECPv6.15.20//NONSGML v1.0//EN
CALSCALE:GREGORIAN
METHOD:PUBLISH
X-WR-CALNAME:eOrlová.cz
X-ORIGINAL-URL:https://eorlova.cz
X-WR-CALDESC:Akce na eOrlová.cz
REFRESH-INTERVAL;VALUE=DURATION:PT1H
X-Robots-Tag:noindex
X-PUBLISHED-TTL:PT1H
BEGIN:VTIMEZONE
TZID:Europe/Paris
BEGIN:DAYLIGHT
TZOFFSETFROM:+0100
TZOFFSETTO:+0200
TZNAME:CEST
DTSTART:20250330T010000
END:DAYLIGHT
BEGIN:STANDARD
TZOFFSETFROM:+0200
TZOFFSETTO:+0100
TZNAME:CET
DTSTART:20251026T010000
END:STANDARD
BEGIN:DAYLIGHT
TZOFFSETFROM:+0100
TZOFFSETTO:+0200
TZNAME:CEST
DTSTART:20260329T010000
END:DAYLIGHT
BEGIN:STANDARD
TZOFFSETFROM:+0200
TZOFFSETTO:+0100
TZNAME:CET
DTSTART:20261025T010000
END:STANDARD
BEGIN:DAYLIGHT
TZOFFSETFROM:+0100
TZOFFSETTO:+0200
TZNAME:CEST
DTSTART:20270328T010000
END:DAYLIGHT
BEGIN:STANDARD
TZOFFSETFROM:+0200
TZOFFSETTO:+0100
TZNAME:CET
DTSTART:20271031T010000
END:STANDARD
END:VTIMEZONE
BEGIN:VEVENT
DTSTART;TZID=Europe/Paris:20260328T110000
DTEND;TZID=Europe/Paris:20260328T170000
DTSTAMP:20260420T182929
CREATED:20260310T095621Z
LAST-MODIFIED:20260318T122246Z
UID:15744-1774695600-1774717200@eorlova.cz
SUMMARY:Šipkařský turnaj v soft šipkách
DESCRIPTION:Hraje se 701 DO na 1DS dvojité KO (dvojice) \nHraje se 501 do dvojité KO (jednotkovci) \n 
URL:https://eorlova.cz/kalendar-udalosti-v-orlove/sipkarsky-turnaj-v-soft-sipkach/
LOCATION:Darts Club Orlová\, Osvobození 797\, Orlová - Lutyně\, Moravskoslezský\, 73514\, Czech Republic
CATEGORIES:Sport v Orlové
ATTACH;FMTTYPE=image/jpeg:https://eorlova.cz/wp-content/uploads/2026/03/akce_dartsClubOrlova_turnaj2803.jpg
END:VEVENT
BEGIN:VEVENT
DTSTART;TZID=Europe/Paris:20260321T153000
DTEND;TZID=Europe/Paris:20260321T170000
DTSTAMP:20260420T182929
CREATED:20260310T095058Z
LAST-MODIFIED:20260318T122038Z
UID:15741-1774107000-1774112400@eorlova.cz
SUMMARY:Soft turnaj v šipkách pro neregistrované
DESCRIPTION:Hraje se 50100 dvojité KO. (Prezentace do 15:50h) \n  \n 
URL:https://eorlova.cz/kalendar-udalosti-v-orlove/soft-turnaj-v-sipkach-pro-neregistrovane/
LOCATION:Darts Club Orlová\, Osvobození 797\, Orlová - Lutyně\, Moravskoslezský\, 73514\, Czech Republic
CATEGORIES:Sport v Orlové
ATTACH;FMTTYPE=image/jpeg:https://eorlova.cz/wp-content/uploads/2026/03/akce_dartsClubOrlova_turnaj_soft.jpg
END:VEVENT
END:VCALENDAR